BEGIN:VCALENDAR
VERSION:2.0
PRODID:-//AMJM - ECPv6.4.0.1//NONSGML v1.0//EN
CALSCALE:GREGORIAN
METHOD:PUBLISH
X-WR-CALNAME:AMJM
X-ORIGINAL-URL:https://associationmaliennedesjeunesmusulmanss.com
X-WR-CALDESC:évènements pour AMJM
REFRESH-INTERVAL;VALUE=DURATION:PT1H
X-Robots-Tag:noindex
X-PUBLISHED-TTL:PT1H
BEGIN:VTIMEZONE
TZID:Europe/Paris
BEGIN:DAYLIGHT
TZOFFSETFROM:+0100
TZOFFSETTO:+0200
TZNAME:CEST
DTSTART:20240331T010000
END:DAYLIGHT
BEGIN:STANDARD
TZOFFSETFROM:+0200
TZOFFSETTO:+0100
TZNAME:CET
DTSTART:20241027T010000
END:STANDARD
END:VTIMEZONE
BEGIN:VEVENT
DTSTART;TZID=Europe/Paris:20241013T080000
DTEND;TZID=Europe/Paris:20241013T170000
DTSTAMP:20260421T114309
CREATED:20241013T121605Z
LAST-MODIFIED:20241013T123236Z
UID:1017-1728806400-1728838800@associationmaliennedesjeunesmusulmanss.com
SUMMARY:Le Camp Islamique de Djélibani (Siby) du 11 au 15 Septembre 2024
DESCRIPTION:             \nL’Association malienne des jeunes musulmans a organisé un camp de jeunes dans la ferme de M. Adama BERTHE dit Chine avec 150 jeunes (Hommes et Femmes).
URL:https://associationmaliennedesjeunesmusulmanss.com/event/le-camp-islamique-de-djelibani-siby-du-11-au-15-septembre-2024/
END:VEVENT
END:VCALENDAR