BEGIN:VCALENDAR
VERSION:2.0
PRODID:-//AMJM - ECPv6.4.0.1//NONSGML v1.0//EN
CALSCALE:GREGORIAN
METHOD:PUBLISH
X-WR-CALNAME:AMJM
X-ORIGINAL-URL:https://associationmaliennedesjeunesmusulmanss.com
X-WR-CALDESC:évènements pour AMJM
REFRESH-INTERVAL;VALUE=DURATION:PT1H
X-Robots-Tag:noindex
X-PUBLISHED-TTL:PT1H
BEGIN:VTIMEZONE
TZID:Europe/Paris
BEGIN:DAYLIGHT
TZOFFSETFROM:+0100
TZOFFSETTO:+0200
TZNAME:CEST
DTSTART:20240331T010000
END:DAYLIGHT
BEGIN:STANDARD
TZOFFSETFROM:+0200
TZOFFSETTO:+0100
TZNAME:CET
DTSTART:20241027T010000
END:STANDARD
END:VTIMEZONE
BEGIN:VEVENT
DTSTART;TZID=Europe/Paris:20240811T130000
DTEND;TZID=Europe/Paris:20240811T170000
DTSTAMP:20260421T142421
CREATED:20240511T121648Z
LAST-MODIFIED:20240601T211808Z
UID:83-1723381200-1723395600@associationmaliennedesjeunesmusulmanss.com
SUMMARY:Harmony in the Park: A Community Music and Arts Festival
DESCRIPTION:Join us for a day of creative expression and community bonding at our annual Harmony in the Park festival! Featuring local musicians\, artists\, and crafters\, this event offers a platform for showcasing talent while fostering connections. From live performances to interactive art installations and workshops for all ages\, there’s something for everyone to enjoy. Bring your family and friends to experience the vibrant culture of our community in the beautiful setting of our local park.
URL:https://associationmaliennedesjeunesmusulmanss.com/event/harmony-in-the-park-a-community-music-and-arts-festival/
LOCATION:Harmony Park\, 112 Main St\, Missoula\, Montana\, United States
CATEGORIES:Community,Festival
ATTACH;FMTTYPE=image/jpeg:https://associationmaliennedesjeunesmusulmanss.com/wp-content/uploads/2024/05/back-view-crowd-of-crop-anonymous-activists.jpeg
ORGANIZER;CN="Community Outreach":MAILTO:info@communityoutreach.org
END:VEVENT
END:VCALENDAR