BEGIN:VCALENDAR
VERSION:2.0
PRODID:-//AMJM - ECPv6.4.0.1//NONSGML v1.0//EN
CALSCALE:GREGORIAN
METHOD:PUBLISH
X-ORIGINAL-URL:https://associationmaliennedesjeunesmusulmanss.com
X-WR-CALDESC:évènements pour AMJM
REFRESH-INTERVAL;VALUE=DURATION:PT1H
X-Robots-Tag:noindex
X-PUBLISHED-TTL:PT1H
BEGIN:VTIMEZONE
TZID:Europe/Paris
BEGIN:DAYLIGHT
TZOFFSETFROM:+0100
TZOFFSETTO:+0200
TZNAME:CEST
DTSTART:20240331T010000
END:DAYLIGHT
BEGIN:STANDARD
TZOFFSETFROM:+0200
TZOFFSETTO:+0100
TZNAME:CET
DTSTART:20241027T010000
END:STANDARD
END:VTIMEZONE
BEGIN:VEVENT
DTSTART;TZID=Europe/Paris:20240527T080000
DTEND;TZID=Europe/Paris:20240527T170000
DTSTAMP:20260423T131332
CREATED:20240527T092959Z
LAST-MODIFIED:20240610T150043Z
UID:161-1716796800-1716829200@associationmaliennedesjeunesmusulmanss.com
SUMMARY:Dialogue Multi acteurs sur les effets de la consommation de drogues dans l'extrémisme violent au Mali
DESCRIPTION:Du 12 au 13 Décembre 2023\, #Bamako: Démarrage des travaux du Dialogue Multi acteurs sur les effets de la consommation de drogues dans l’extrémisme violant au Mali. Pendant deux jours de travaux\, le premier jour sous la présidence de Monsieur le ministre des affaires religieux\, des cultes et des coutumes\, Dr Mahamadou KONE. L’activité était initié par l’Office des nations unies contre la drogue et le crime #ONUDC en partenariat avec le Secrétariat Permanent de la Politique Nationale de Prévention et de lutte contre contre l’Extrémisme Violent et le terrorisme (#PNLEVT) en collaboration avec la Coalition des ONG engagées dans la prévention et la lutte contre l’extrémisme violent au Mali (COPEV) dont Association malienne des jeunes musulmans (AMJM) est membre s’est déroulé à Granada Hôtel de l’Amitié de Bamako.   \n\n\n\n#TissonsDesRelationsPourLaPaix                                                            #PVEauMali                                                                                                       #COPEV
URL:https://associationmaliennedesjeunesmusulmanss.com/event/dialogue-multi-acteurs-sur-les-effets-de-la-consommation-de-drogues-dans-lextremisme-violent-au-mali/
ATTACH;FMTTYPE=image/jpeg:https://associationmaliennedesjeunesmusulmanss.com/wp-content/uploads/2024/05/409437603_370627335358579_1596037845948547356_n-1.jpg
END:VEVENT
END:VCALENDAR